BEGIN:VCALENDAR
VERSION:2.0
PRODID:-//Sabre//Sabre VObject 4.5.8//EN
CALSCALE:GREGORIAN
BEGIN:VEVENT
UID:sabre-vobject-82cb5ebd-88c6-4251-9ef1-3cae036226da
DTSTAMP:20260423T151705Z
SUMMARY:24 Stunden Eucharistische Anbetung
DESCRIPTION:https://pg-karlskron.de/24-stunden-eucharistische-anbetung_id44
 929
DTSTART;TZID=Europe/Berlin:20260724T183000
DTEND;TZID=Europe/Berlin:20260725T183000
LOCATION:Wallfahrtskirche zur schmerzhaften Muttergottes Pobenhausen\, Kalv
 arienberg\, 85123 Pobenhausen Karlskron
END:VEVENT
END:VCALENDAR
