BEGIN:VCALENDAR
VERSION:2.0
PRODID:-//Sabre//Sabre VObject 4.5.8//EN
CALSCALE:GREGORIAN
BEGIN:VEVENT
UID:sabre-vobject-17c3e58e-3345-49be-9da6-7088a95908f2
DTSTAMP:20260422T151024Z
SUMMARY:Aktion Hoffnung - Altkleidersammlung in der PG \n\nBitte bringen Si
 e Ihre gefüllten Sammeltüten zu den folgenden Sammelpunkten:\n\nAdelshau
 sen / Aschelsried an der Kirche / Gasthaus Felber\n\nKarl
DESCRIPTION:https://pg-karlskron.de/aktion-hoffnung-altkleidersammlung-in-d
 er-pg-bitte-bringen-sie-ihre-gefuellten-sammeltueten-zu-den-folgenden-samm
 elpunkten-adelshausen-aschelsried-an-der-kirche-gasthaus-felber-karl_id445
 49
DTSTART;TZID=Europe/Berlin:20260509T080000
DURATION:PT30M
LOCATION:Kirche Heiligste Dreifaltigkeit Karlskron\, Hauptstraße 39\, 8512
 3 Karlskron
END:VEVENT
END:VCALENDAR
