BEGIN:VCALENDAR
VERSION:2.0
PRODID:-//Sabre//Sabre VObject 4.5.8//EN
CALSCALE:GREGORIAN
BEGIN:VEVENT
UID:sabre-vobject-675dbf12-92ef-4327-9d9d-2b39b726af75
DTSTAMP:20260422T151159Z
SUMMARY:Krankenkommunion - bitte melden Sie sich im Pfarrbüro
DESCRIPTION:https://pg-karlskron.de/krankenkommunion-bitte-melden-sie-sich-
 im-pfarrbuero_id44548
DTSTART;TZID=Europe/Berlin:20260508T090000
DURATION:PT30M
LOCATION:Kirche Heiligste Dreifaltigkeit Karlskron\, Hauptstraße 39\, 8512
 3 Karlskron
END:VEVENT
END:VCALENDAR
