BEGIN:VCALENDAR
VERSION:2.0
PRODID:-//Sabre//Sabre VObject 4.5.8//EN
CALSCALE:GREGORIAN
BEGIN:VEVENT
UID:sabre-vobject-17b74c56-5e56-4443-aa60-0e00a68fabce
DTSTAMP:20260422T145254Z
SUMMARY:Stille Anbetung mit Aussetzung auf dem Kalvarienberg
DESCRIPTION:https://pg-karlskron.de/stille-anbetung-mit-aussetzung-auf-dem-
 kalvarienberg_id44547
DTSTART;TZID=Europe/Berlin:20260510T150000
DURATION:PT30M
LOCATION:Kirche St. Quirinus Pobenhausen\, Schrobenhausener Str.\, 85123 Po
 benhausen Karlskron
END:VEVENT
END:VCALENDAR
