BEGIN:VCALENDAR
VERSION:2.0
PRODID:-//Sabre//Sabre VObject 4.5.8//EN
CALSCALE:GREGORIAN
BEGIN:VEVENT
UID:sabre-vobject-49b967ec-701a-4467-aa08-9f1086da01a4
DTSTAMP:20260422T144518Z
SUMMARY:Pfarrgottesdienst
DESCRIPTION:https://pg-karlskron.de/pfarrgottesdienst_id44546
DTSTART;TZID=Europe/Berlin:20260510T084500
DURATION:PT30M
LOCATION:Kirche St. Quirinus Pobenhausen\, Schrobenhausener Str.\, 85123 Po
 benhausen Karlskron
END:VEVENT
END:VCALENDAR
