BEGIN:VCALENDAR
VERSION:2.0
PRODID:-//Sabre//Sabre VObject 4.5.8//EN
CALSCALE:GREGORIAN
BEGIN:VEVENT
UID:sabre-vobject-becb6619-deb9-48b8-8050-23d43c4a7c21
DTSTAMP:20260422T144340Z
SUMMARY:Abendgottesdienst
DESCRIPTION:https://pg-karlskron.de/abendgottesdienst_id44545
DTSTART;TZID=Europe/Berlin:20260508T183000
DURATION:PT30M
LOCATION:Kirche St. Quirinus Pobenhausen\, Schrobenhausener Str.\, 85123 Po
 benhausen Karlskron
END:VEVENT
END:VCALENDAR
