BEGIN:VCALENDAR
VERSION:2.0
PRODID:-//Sabre//Sabre VObject 4.5.8//EN
CALSCALE:GREGORIAN
BEGIN:VEVENT
UID:sabre-vobject-802d4c8b-cca3-4437-bb99-8ad6cd8e526f
DTSTAMP:20260422T150423Z
SUMMARY:Stille Anbetung mit Aussetzung auf dem Kalvarienberg
DESCRIPTION:https://pg-karlskron.de/stille-anbetung-mit-aussetzung-auf-dem-
 kalvarienberg_id44544
DTSTART;TZID=Europe/Berlin:20260503T150000
DURATION:PT30M
LOCATION:Kirche St. Quirinus Pobenhausen\, Schrobenhausener Str.\, 85123 Po
 benhausen Karlskron
END:VEVENT
END:VCALENDAR
