BEGIN:VCALENDAR
VERSION:2.0
PRODID:-//Sabre//Sabre VObject 4.5.8//EN
CALSCALE:GREGORIAN
BEGIN:VEVENT
UID:sabre-vobject-f17deff1-7971-4b17-a05f-054fb37243ff
DTSTAMP:20260422T144325Z
SUMMARY:Jugendwallfahrt auf dem Kalvarienberg
DESCRIPTION:https://pg-karlskron.de/jugendwallfahrt-auf-dem-kalvarienberg_i
 d44543
DTSTART;TZID=Europe/Berlin:20260503T110000
DURATION:PT30M
LOCATION:Kirche St. Quirinus Pobenhausen\, Schrobenhausener Str.\, 85123 Po
 benhausen Karlskron
END:VEVENT
END:VCALENDAR
