BEGIN:VCALENDAR
VERSION:2.0
PRODID:-//Sabre//Sabre VObject 4.5.8//EN
CALSCALE:GREGORIAN
BEGIN:VEVENT
UID:sabre-vobject-5b9a4929-a5f7-4fb8-8944-4aaebc58c742
DTSTAMP:20260422T144303Z
SUMMARY:Gottesdienst mit Maiandacht
DESCRIPTION:https://pg-karlskron.de/gottesdienst-mit-maiandacht_id44542
DTSTART;TZID=Europe/Berlin:20260501T101500
DURATION:PT30M
LOCATION:Kirche St. Quirinus Pobenhausen\, Schrobenhausener Str.\, 85123 Po
 benhausen Karlskron
END:VEVENT
END:VCALENDAR
