BEGIN:VCALENDAR
VERSION:2.0
PRODID:-//Sabre//Sabre VObject 4.5.8//EN
CALSCALE:GREGORIAN
BEGIN:VEVENT
UID:sabre-vobject-928ff3ce-e039-4eb6-9aff-df5b5d774236
DTSTAMP:20260422T144319Z
SUMMARY:Treff ab 60 im Haus St. Pankraz\, Gartenstr. 10
DESCRIPTION:https://pg-karlskron.de/treff-ab-60-im-haus-st-pankraz-gartenst
 r-10_id44541
DTSTART;TZID=Europe/Berlin:20260509T140000
DURATION:PT30M
LOCATION:Kirche Heiligste Dreifaltigkeit Karlskron\, Hauptstraße 39\, 8512
 3 Karlskron
END:VEVENT
END:VCALENDAR
