BEGIN:VCALENDAR
VERSION:2.0
PRODID:-//Sabre//Sabre VObject 4.5.8//EN
CALSCALE:GREGORIAN
BEGIN:VEVENT
UID:sabre-vobject-7221683a-c26d-42fd-ab59-52dab1540478
DTSTAMP:20260424T083608Z
SUMMARY:Sonntagsgottesdienst
DESCRIPTION:https://pg-karlskron.de/sonntagsgottesdienst_id44539
DTSTART;TZID=Europe/Berlin:20260510T100000
DURATION:PT30M
LOCATION:Kirche St. Peter Adelshausen\, Schloßstraße 10\, 85123 Adelshaus
 en Karlskron
END:VEVENT
END:VCALENDAR
