BEGIN:VCALENDAR
VERSION:2.0
PRODID:-//Sabre//Sabre VObject 4.5.8//EN
CALSCALE:GREGORIAN
BEGIN:VEVENT
UID:sabre-vobject-155401b0-3486-42f9-8f0a-e60f0217e8f5
DTSTAMP:20260422T150423Z
SUMMARY:Gottesdienst mit anschl. Frauenfrühstück im Haus St. Pankraz (Gar
 tenstr. 10)
DESCRIPTION:https://pg-karlskron.de/gottesdienst-mit-anschl-frauenfruehstue
 ck-im-haus-st-pankraz-gartenstr-10_id44538
DTSTART;TZID=Europe/Berlin:20260428T084500
DURATION:PT30M
LOCATION:Kirche Heiligste Dreifaltigkeit Karlskron\, Hauptstraße 39\, 8512
 3 Karlskron
END:VEVENT
END:VCALENDAR
