BEGIN:VCALENDAR
VERSION:2.0
PRODID:-//Sabre//Sabre VObject 4.5.8//EN
CALSCALE:GREGORIAN
BEGIN:VEVENT
UID:sabre-vobject-4033c6d2-a487-4c9d-9eda-bf63ff44a7d2
DTSTAMP:20260422T144517Z
SUMMARY:Floriansmesse
DESCRIPTION:https://pg-karlskron.de/floriansmesse_id44537
DTSTART;TZID=Europe/Berlin:20260509T183000
DURATION:PT30M
LOCATION:Kirche Heiligste Dreifaltigkeit Karlskron\, Hauptstraße 39\, 8512
 3 Karlskron
END:VEVENT
END:VCALENDAR
