BEGIN:VCALENDAR
VERSION:2.0
PRODID:-//Sabre//Sabre VObject 4.5.8//EN
CALSCALE:GREGORIAN
BEGIN:VEVENT
UID:sabre-vobject-ec281552-b99e-4f68-91ef-5de813141626
DTSTAMP:20260422T144451Z
SUMMARY:Abendgottesdienst
DESCRIPTION:https://pg-karlskron.de/abendgottesdienst_id44536
DTSTART;TZID=Europe/Berlin:20260507T183000
DURATION:PT30M
LOCATION:Kirche Heiligste Dreifaltigkeit Karlskron\, Hauptstraße 39\, 8512
 3 Karlskron
END:VEVENT
END:VCALENDAR
