BEGIN:VCALENDAR
VERSION:2.0
PRODID:-//Sabre//Sabre VObject 4.5.8//EN
CALSCALE:GREGORIAN
BEGIN:VEVENT
UID:sabre-vobject-d7813329-1412-4f1f-89cc-016a9d2aa678
DTSTAMP:20260422T144325Z
SUMMARY:Beichtgelegenheit
DESCRIPTION:https://pg-karlskron.de/beichtgelegenheit_id44535
DTSTART;TZID=Europe/Berlin:20260507T180000
DURATION:PT30M
LOCATION:Kirche Heiligste Dreifaltigkeit Karlskron\, Hauptstraße 39\, 8512
 3 Karlskron
END:VEVENT
END:VCALENDAR
