BEGIN:VCALENDAR
VERSION:2.0
PRODID:-//Sabre//Sabre VObject 4.5.8//EN
CALSCALE:GREGORIAN
BEGIN:VEVENT
UID:sabre-vobject-1af8bef5-5636-4fcd-8801-d6cd3327c87b
DTSTAMP:20260422T145513Z
SUMMARY:Abendgottesdienst mit Maiandacht
DESCRIPTION:https://pg-karlskron.de/abendgottesdienst-mit-maiandacht_id4453
 4
DTSTART;TZID=Europe/Berlin:20260430T183000
DURATION:PT30M
LOCATION:Kirche Heiligste Dreifaltigkeit Karlskron\, Hauptstraße 39\, 8512
 3 Karlskron
END:VEVENT
END:VCALENDAR
