BEGIN:VCALENDAR
VERSION:2.0
PRODID:-//Sabre//Sabre VObject 4.5.8//EN
CALSCALE:GREGORIAN
BEGIN:VEVENT
UID:sabre-vobject-7e127786-7486-4c36-ae57-407590c075c3
DTSTAMP:20260422T144340Z
SUMMARY:Beichtgelegenheit
DESCRIPTION:https://pg-karlskron.de/beichtgelegenheit_id44533
DTSTART;TZID=Europe/Berlin:20260430T180000
DURATION:PT30M
LOCATION:Kirche Heiligste Dreifaltigkeit Karlskron\, Hauptstraße 39\, 8512
 3 Karlskron
END:VEVENT
END:VCALENDAR
