BEGIN:VCALENDAR
VERSION:2.0
PRODID:-//Sabre//Sabre VObject 4.5.8//EN
CALSCALE:GREGORIAN
BEGIN:VEVENT
UID:sabre-vobject-e352203c-fa2b-4c0a-b67b-a76ce1004283
DTSTAMP:20260422T144446Z
SUMMARY:Abendgottesdienst mit Aussetzung um geistliche Berufung
DESCRIPTION:https://pg-karlskron.de/abendgottesdienst-mit-aussetzung-um-gei
 stliche-berufung_id44532
DTSTART;TZID=Europe/Berlin:20260429T183000
DURATION:PT30M
LOCATION:Kirche St. Peter Adelshausen\, Schloßstraße 10\, 85123 Adelshaus
 en Karlskron
END:VEVENT
END:VCALENDAR
