BEGIN:VCALENDAR
VERSION:2.0
PRODID:-//Sabre//Sabre VObject 4.5.8//EN
CALSCALE:GREGORIAN
BEGIN:VEVENT
UID:sabre-vobject-c1ff9516-f73f-4740-b1f5-ff0ba75d3800
DTSTAMP:20260422T144528Z
SUMMARY:Abendgottesdienst
DESCRIPTION:https://pg-karlskron.de/abendgottesdienst_id44531
DTSTART;TZID=Europe/Berlin:20260506T183000
DURATION:PT30M
LOCATION:Kirche St. Peter Adelshausen\, Schloßstraße 10\, 85123 Adelshaus
 en Karlskron
END:VEVENT
END:VCALENDAR
