BEGIN:VCALENDAR
VERSION:2.0
PRODID:-//Sabre//Sabre VObject 4.5.8//EN
CALSCALE:GREGORIAN
BEGIN:VEVENT
UID:sabre-vobject-0ae0957e-4bab-41da-9272-9432f42b7f24
DTSTAMP:20260422T144450Z
SUMMARY:feierliche Maiandacht an der Linde in Aschelsried
DESCRIPTION:https://pg-karlskron.de/feierliche-maiandacht-an-der-linde-in-a
 schelsried_id44530
DTSTART;TZID=Europe/Berlin:20260503T183000
DURATION:PT30M
LOCATION:Kirche St. Peter Adelshausen\, Schloßstraße 10\, 85123 Adelshaus
 en Karlskron
END:VEVENT
END:VCALENDAR
