BEGIN:VCALENDAR
VERSION:2.0
PRODID:-//Sabre//Sabre VObject 4.5.8//EN
CALSCALE:GREGORIAN
BEGIN:VEVENT
UID:sabre-vobject-1c3dcbc5-d7ca-4b25-93e8-740875cc0b4d
DTSTAMP:20260422T151243Z
SUMMARY:Floriansmesse anschl. Segnung des neuen Feuerwehrfahrzeuges am Feue
 rwehrhaus und gemütlichem Beisammensein
DESCRIPTION:https://pg-karlskron.de/floriansmesse-anschl-segnung-des-neuen-
 feuerwehrfahrzeuges-am-feuerwehrhaus-und-gemuetlichem-beisammensein_id4452
 9
DTSTART;TZID=Europe/Berlin:20260502T180000
DURATION:PT30M
LOCATION:Kirche St. Peter Adelshausen\, Schloßstraße 10\, 85123 Adelshaus
 en Karlskron
END:VEVENT
END:VCALENDAR
