BEGIN:VCALENDAR
VERSION:2.0
PRODID:-//Sabre//Sabre VObject 4.5.8//EN
CALSCALE:GREGORIAN
BEGIN:VEVENT
UID:sabre-vobject-bf240777-a4e6-4552-9a66-3fe611423396
DTSTAMP:20260422T144446Z
SUMMARY:Gottesdienst mit Maiandacht
DESCRIPTION:https://pg-karlskron.de/gottesdienst-mit-maiandacht_id44528
DTSTART;TZID=Europe/Berlin:20260501T084500
DURATION:PT30M
LOCATION:Kirche St. Peter Adelshausen\, Schloßstraße 10\, 85123 Adelshaus
 en Karlskron
END:VEVENT
END:VCALENDAR
