BEGIN:VCALENDAR
VERSION:2.0
PRODID:-//Sabre//Sabre VObject 4.5.8//EN
CALSCALE:GREGORIAN
BEGIN:VEVENT
UID:sabre-vobject-d36e2e74-ebf8-412e-b35c-8f952b582e1f
DTSTAMP:20260422T150341Z
SUMMARY:Pfarrgottesdienst mit Verabschiedung und Einführung der Pfarrgemei
 nderatsmitglieder
DESCRIPTION:https://pg-karlskron.de/pfarrgottesdienst-mit-verabschiedung-un
 d-einfuehrung-der-pfarrgemeinderatsmitglieder_id44527
DTSTART;TZID=Europe/Berlin:20260426T084500
DURATION:PT30M
LOCATION:Kirche St. Quirinus Pobenhausen\, Schrobenhausener Str.\, 85123 Po
 benhausen Karlskron
END:VEVENT
END:VCALENDAR
