BEGIN:VCALENDAR
VERSION:2.0
PRODID:-//Sabre//Sabre VObject 4.5.8//EN
CALSCALE:GREGORIAN
BEGIN:VEVENT
UID:sabre-vobject-b294b7b3-62f8-461b-a175-5e341d67a732
DTSTAMP:20260422T182319Z
SUMMARY:Sonntagsgottesdienst mit Verabschiedung und Einführung der Pfarrge
 meinderatsmitglieder
DESCRIPTION:https://pg-karlskron.de/sonntagsgottesdienst-mit-verabschiedung
 -und-einfuehrung-der-pfarrgemeinderatsmitglieder_id44526
DTSTART;TZID=Europe/Berlin:20260426T100000
DURATION:PT30M
LOCATION:Kirche St. Peter Adelshausen\, Schloßstraße 10\, 85123 Adelshaus
 en Karlskron
END:VEVENT
END:VCALENDAR
