BEGIN:VCALENDAR
VERSION:2.0
PRODID:-//Sabre//Sabre VObject 4.5.8//EN
CALSCALE:GREGORIAN
BEGIN:VEVENT
UID:sabre-vobject-e7bf959e-fe04-4451-90c0-0c89abc7fe78
DTSTAMP:20260422T150255Z
SUMMARY:Stille Anbetung mit Aussetzung auf dem Kalvarienberg
DESCRIPTION:https://pg-karlskron.de/stille-anbetung-mit-aussetzung-auf-dem-
 kalvarienberg_id44525
DTSTART;TZID=Europe/Berlin:20260426T150000
DURATION:PT30M
LOCATION:Kirche St. Quirinus Pobenhausen\, Schrobenhausener Str.\, 85123 Po
 benhausen Karlskron
END:VEVENT
END:VCALENDAR
