BEGIN:VCALENDAR
VERSION:2.0
PRODID:-//Sabre//Sabre VObject 4.5.8//EN
CALSCALE:GREGORIAN
BEGIN:VEVENT
UID:sabre-vobject-8c93b801-810a-48be-84dc-f7639280c6e8
DTSTAMP:20260422T151243Z
SUMMARY:Taufe auf dem Kalvarienberg
DESCRIPTION:https://pg-karlskron.de/taufe-auf-dem-kalvarienberg_id44524
DTSTART;TZID=Europe/Berlin:20260426T111500
DURATION:PT30M
LOCATION:Kirche St. Quirinus Pobenhausen\, Schrobenhausener Str.\, 85123 Po
 benhausen Karlskron
END:VEVENT
END:VCALENDAR
