BEGIN:VCALENDAR
VERSION:2.0
PRODID:-//Sabre//Sabre VObject 4.5.8//EN
CALSCALE:GREGORIAN
BEGIN:VEVENT
UID:sabre-vobject-d4b65678-e2a3-4450-850f-8cd4cb0a287d
DTSTAMP:20260422T144528Z
SUMMARY:Vorabendgottesdienst
DESCRIPTION:https://pg-karlskron.de/vorabendgottesdienst_id44523
DTSTART;TZID=Europe/Berlin:20260425T183000
DURATION:PT30M
LOCATION:Kirche Heiligste Dreifaltigkeit Karlskron\, Hauptstraße 39\, 8512
 3 Karlskron
END:VEVENT
END:VCALENDAR
