BEGIN:VCALENDAR
VERSION:2.0
PRODID:-//Sabre//Sabre VObject 4.5.8//EN
CALSCALE:GREGORIAN
BEGIN:VEVENT
UID:sabre-vobject-d37d952e-51a7-4a7c-9a23-0482458d6137
DTSTAMP:20260422T144303Z
SUMMARY:Beichtgelegenheit
DESCRIPTION:https://pg-karlskron.de/beichtgelegenheit_id44521
DTSTART;TZID=Europe/Berlin:20260425T180000
DURATION:PT30M
LOCATION:Kirche Heiligste Dreifaltigkeit Karlskron\, Hauptstraße 39\, 8512
 3 Karlskron
END:VEVENT
END:VCALENDAR
