BEGIN:VCALENDAR
VERSION:2.0
PRODID:-//Sabre//Sabre VObject 4.5.8//EN
CALSCALE:GREGORIAN
BEGIN:VEVENT
UID:sabre-vobject-f4d9a0ae-18f2-4e99-aee3-e28f1101f3f2
DTSTAMP:20260421T104159Z
SUMMARY:Gottesdienst mit anschl. Frauenfrühstück im Haus Pankraz (Gartens
 tr. 10)
DESCRIPTION:https://pg-karlskron.de/gottesdienst-mit-anschl-frauenfruehstue
 ck-im-haus-pankraz-gartenstr-10_id35173
DTSTART;TZID=Europe/Berlin:20260127T084500
DURATION:PT30M
LOCATION:Haus Pankraz\, Gartenstr. 10\, 85123 Karlskron
END:VEVENT
END:VCALENDAR
